BEGIN:VCALENDAR
VERSION:2.0
PRODID:Imitheme.com 
BEGIN:VEVENT
UID:20260420T040244556082156
DTSTAMP;TZID=UTC:2026-04-20 04:02:44
DTSTART;TZID=America/Los_Angeles:20250810T100000
DTEND;TZID=America/Los_Angeles:20250810T110000
SUMMARY:Sunday Worship Service (in Sanctuary and Webcast)
LOCATION:Sanctuary and Webcast
DESCRIPTION: The Sunday worship services are held in the Sanctuary at 10am but are also webcast. To watch it live, click here. You can also watch previous services by clicking on Webcast Archives on the top yellow banner. All are welcome.  The sanctuary is wheelchair-accessible. 
URL:https://www.rideaupark.ca/event/sunday-worship-service-in-sanctuary-and-webcast/edate/2025-08-10
END:VEVENT
END:VCALENDAR
