BEGIN:VCALENDAR
VERSION:2.0
PRODID:Imitheme.com 
BEGIN:VEVENT
UID:20260421T0958261005777766
DTSTAMP;TZID=UTC:2026-04-21 09:58:26
DTSTART;TZID=America/Los_Angeles:20260430T093000
DTEND;TZID=America/Los_Angeles:20260430T120000
SUMMARY:Quilting Group
LOCATION:Rideau Park United Church\, Alta Vista Drive Ottawa ON
DESCRIPTION: Meets weekly on Thursdays from 9am-12pm to quilt and socialize. Open to all ages. Contact: prayerchain@rideaupark.ca 
URL:https://www.rideaupark.ca/event/quilting-group-2/edate/2026-04-30
END:VEVENT
END:VCALENDAR
