BEGIN:VCALENDAR
VERSION:2.0
PRODID:Imitheme.com 
BEGIN:VEVENT
UID:20260421T1006231732967400
DTSTAMP;TZID=UTC:2026-04-21 10:06:23
DTSTART;TZID=America/Los_Angeles:20260505T193000
DTEND;TZID=America/Los_Angeles:20260505T203000
SUMMARY:La Bell Ensemble
LOCATION:Rideau Park United Church\, Alta Vista Drive Ottawa ON
DESCRIPTION: LA BELL ENSEMBLE is an adult handbell choir that provides music for weddings and offers its gifts of music frequently out in the wider community. Practices are held on Tuesdays at 7:15pm. For more information please contact Jeanette Caton. 
URL:https://www.rideaupark.ca/event/la-bell-ensemble/edate/2026-05-05
END:VEVENT
END:VCALENDAR
