BEGIN:VCALENDAR
VERSION:2.0
PRODID:Imitheme.com 
BEGIN:VEVENT
UID:20260419T1047201785436187
DTSTAMP;TZID=UTC:2026-04-19 10:47:20
DTSTART;TZID=America/Los_Angeles:20260528T093000
DTEND;TZID=America/Los_Angeles:20260528T120000
SUMMARY:Quilting Group
LOCATION:Rideau Park United Church\, Alta Vista Drive Ottawa ON
DESCRIPTION: Meets weekly on Thursdays from 9am-12pm to quilt and socialize. Open to all ages. Contact: prayerchain@rideaupark.ca 
URL:https://www.rideaupark.ca/event/quilting-group-2/edate/2026-05-28
END:VEVENT
END:VCALENDAR
