BEGIN:VCALENDAR
VERSION:2.0
PRODID:Imitheme.com 
BEGIN:VEVENT
UID:20260419T1040241058788006
DTSTAMP;TZID=UTC:2026-04-19 10:40:24
DTSTART;TZID=America/Los_Angeles:20260521T180000
DTEND;TZID=America/Los_Angeles:20260521T190000
SUMMARY:Cherubs
LOCATION:Room B13
DESCRIPTION: Children’s choir meant for kids from junior kindergarten to grade 3. Practices are Thursday at 6:00pm. Led by Ashley C. Roy. 
URL:https://www.rideaupark.ca/event/cherubs-2/edate/2026-05-21
END:VEVENT
END:VCALENDAR
