BEGIN:VCALENDAR
VERSION:2.0
PRODID:Imitheme.com 
BEGIN:VEVENT
UID:20260421T0738071551608162
DTSTAMP;TZID=UTC:2026-04-21 07:38:07
DTSTART;TZID=America/Los_Angeles:20260702T093000
DTEND;TZID=America/Los_Angeles:20260702T120000
SUMMARY:Quilting Group
LOCATION:Rideau Park United Church\, Alta Vista Drive Ottawa ON
DESCRIPTION: Meets weekly on Thursdays from 9am-12pm to quilt and socialize. Open to all ages. Contact: prayerchain@rideaupark.ca 
URL:https://www.rideaupark.ca/event/quilting-group-2/edate/2026-07-02
END:VEVENT
END:VCALENDAR
