BEGIN:VCALENDAR
VERSION:2.0
PRODID:Imitheme.com 
BEGIN:VEVENT
UID:20260421T0738521886422508
DTSTAMP;TZID=UTC:2026-04-21 07:38:52
DTSTART;TZID=America/Los_Angeles:20260702T193000
DTEND;TZID=America/Los_Angeles:20260702T210000
SUMMARY:Chancel Choir
LOCATION:Rideau Park United Church\, Alta Vista Drive Ottawa ON
DESCRIPTION: Rideau Park’s Chancel Choir sings at the service on Sunday mornings and rehearses on Thursday evenings. New members are always welcome.  Let’s grow the choir!! Loosen up those vocal cords! Contact Iain Macpherson. 
URL:https://www.rideaupark.ca/event/chancel-choir-2/edate/2026-07-02
END:VEVENT
END:VCALENDAR
