BEGIN:VCALENDAR
VERSION:2.0
PRODID:Imitheme.com 
BEGIN:VEVENT
UID:20260421T0902321601791060
DTSTAMP;TZID=UTC:2026-04-21 09:02:32
DTSTART;TZID=America/Los_Angeles:20260727T130000
DTEND;TZID=America/Los_Angeles:20260727T153000
SUMMARY:Knitting Group
LOCATION:Rideau Park United Church\, Alta Vista Drive Ottawa ON
DESCRIPTION: Meets weekly on Mondays from 1-3pm to knit and socialize. Open to all ages. Contact: prayerchain@rideaupark.ca 
URL:https://www.rideaupark.ca/event/knitting-group-2/edate/2026-07-27
END:VEVENT
END:VCALENDAR
