BEGIN:VCALENDAR
VERSION:2.0
PRODID:Imitheme.com 
BEGIN:VEVENT
UID:20260421T0912281398352141
DTSTAMP;TZID=UTC:2026-04-21 09:12:28
DTSTART;TZID=America/Los_Angeles:20260730T130000
DTEND;TZID=America/Los_Angeles:20260730T153000
SUMMARY:Euchre Club
LOCATION:Rideau Park United Church\, Alta Vista Drive Ottawa ON
DESCRIPTION: Rideau Park\'s Euchre club meets every Thursday from 1-3pm. Cost is $2.00 per player. Drop-ins welcome. Goodies and refreshments provided afterwards. 
URL:https://www.rideaupark.ca/event/euchre-club-4/edate/2026-07-30
END:VEVENT
END:VCALENDAR
