BEGIN:VCALENDAR
VERSION:2.0
PRODID:Imitheme.com 
BEGIN:VEVENT
UID:20260421T1035011371047961
DTSTAMP;TZID=UTC:2026-04-21 10:35:01
DTSTART;TZID=America/Los_Angeles:20260824T130000
DTEND;TZID=America/Los_Angeles:20260824T153000
SUMMARY:Knitting Group
LOCATION:Rideau Park United Church\, Alta Vista Drive Ottawa ON
DESCRIPTION: Meets weekly on Mondays from 1-3pm to knit and socialize. Open to all ages. Contact: prayerchain@rideaupark.ca 
URL:https://www.rideaupark.ca/event/knitting-group-2/edate/2026-08-24
END:VEVENT
END:VCALENDAR
