BEGIN:VCALENDAR
VERSION:2.0
PRODID:Imitheme.com 
BEGIN:VEVENT
UID:20260421T103647394181035
DTSTAMP;TZID=UTC:2026-04-21 10:36:47
DTSTART;TZID=America/Los_Angeles:20260831T191500
DTEND;TZID=America/Los_Angeles:20260831T204500
SUMMARY:Touch of Brass
LOCATION:Rideau Park United Church\, Alta Vista Drive Ottawa ON
DESCRIPTION: TOUCH OF BRASS is an adult handbell choir that plays in church regularly as well as at special events in the community. Practices are held Mondays at 7:15pm. For more information, or to join, contact Gordon Dewis. 
URL:https://www.rideaupark.ca/event/touch-of-brass-2/edate/2026-08-31
END:VEVENT
END:VCALENDAR
