BEGIN:VCALENDAR
VERSION:2.0
PRODID:Imitheme.com 
BEGIN:VEVENT
UID:20260421T061552611780685
DTSTAMP;TZID=UTC:2026-04-21 06:15:52
DTSTART;TZID=America/Los_Angeles:20260312T180000
DTEND;TZID=America/Los_Angeles:20260312T190000
SUMMARY:Cherubs
LOCATION:Room B13
DESCRIPTION: Children’s choir meant for kids from junior kindergarten to grade 3. Practices are Thursday at 6:00pm. Led by Ashley C. Roy. 
URL:https://www.rideaupark.ca/event/cherubs-2/edate/2026-03-12
END:VEVENT
END:VCALENDAR
