BEGIN:VCALENDAR
VERSION:2.0
PRODID:Imitheme.com 
BEGIN:VEVENT
UID:20260422T06172240852725
DTSTAMP;TZID=UTC:2026-04-22 06:17:22
DTSTART;TZID=America/Los_Angeles:20200112T100000
DTEND;TZID=America/Los_Angeles:20200112T110000
SUMMARY:Installation of UCW Officers
LOCATION:Rideau Park United Church\, Alta Vista Drive Ottawa ON
DESCRIPTION:Installation of UCW Officers takes place as part of the 10am Worship Service on Sunday, January 13, 2020 in the Sanctuary. New and continuing members of the UCW Executive at Rideau Park will be installed formally as members of the Executive. For further details, please contact Nancy Begg-Durkee at ucw@rideaupark.ca.
URL:https://www.rideaupark.ca/event/installation-of-ucw-officers/edate/2020-01-12
END:VEVENT
END:VCALENDAR
