BEGIN:VCALENDAR
VERSION:2.0
PRODID:Imitheme.com 
BEGIN:VEVENT
UID:20260422T0427221464617803
DTSTAMP;TZID=UTC:2026-04-22 04:27:22
DTSTART;TZID=America/Los_Angeles:20220925T160000
DTEND;TZID=America/Los_Angeles:20220925T164500
SUMMARY:Forest Church
LOCATION:Rideau Park United Church\, Alta Vista Drive Ottawa ON
DESCRIPTION: Forest Church: Come and join us as we take time for prayer with all God\'s creatures in Cunningham Forest. We meet in front of the church – dress for the weather! 
URL:https://www.rideaupark.ca/event/forest-church-3/edate/2022-09-25
END:VEVENT
END:VCALENDAR
