BEGIN:VCALENDAR
VERSION:2.0
PRODID:Imitheme.com 
BEGIN:VEVENT
UID:20260425T204243600363300
DTSTAMP;TZID=UTC:2026-04-25 20:42:43
DTSTART;TZID=America/Los_Angeles:20221224T183000
DTEND;TZID=America/Los_Angeles:20221224T193000
SUMMARY:Christmas Eve service - Family
LOCATION:Rideau Park United Church\, Alta Vista Drive Ottawa ON
DESCRIPTION: Lessons and Carols 6:30 p.m. Led by the children and youth and reading through the Christmas story. 
URL:https://www.rideaupark.ca/event/christmas-eve-service-family/edate/2022-12-24
END:VEVENT
END:VCALENDAR
