BEGIN:VCALENDAR
VERSION:2.0
PRODID:Imitheme.com 
BEGIN:VEVENT
UID:20260425T2042421472768277
DTSTAMP;TZID=UTC:2026-04-25 20:42:42
DTSTART;TZID=America/Los_Angeles:20221224T203000
DTEND;TZID=America/Los_Angeles:20221224T214500
SUMMARY:Christmas Eve Service with Communion
LOCATION:Rideau Park United Church\, Alta Vista Drive Ottawa ON
DESCRIPTION: Christmas Eve Service with  Communion 8:30 p.m 
URL:https://www.rideaupark.ca/event/christmas-eve-reflections/edate/2022-12-24
END:VEVENT
END:VCALENDAR
