BEGIN:VCALENDAR
VERSION:2.0
PRODID:Imitheme.com 
BEGIN:VEVENT
UID:20260425T203613264872162
DTSTAMP;TZID=UTC:2026-04-25 20:36:13
DTSTART;TZID=America/Los_Angeles:20221225T100000
DTEND;TZID=America/Los_Angeles:20221225T110000
SUMMARY:Christmas Day Worship Service (in-person only)
LOCATION:Rideau Park United Church\, Alta Vista Drive Ottawa ON
DESCRIPTION: Sunday, December 25 at 10:00 a.m. - Christmas Day Worship Service (IN-PERSON ONLY). 
URL:https://www.rideaupark.ca/event/christmas-day-worship-service-in-person-only/edate/2022-12-25
END:VEVENT
END:VCALENDAR
