BEGIN:VCALENDAR
VERSION:2.0
PRODID:Imitheme.com 
BEGIN:VEVENT
UID:20260425T204654899769097
DTSTAMP;TZID=UTC:2026-04-25 20:46:54
DTSTART;TZID=America/Los_Angeles:20221221T190000
DTEND;TZID=America/Los_Angeles:20221221T203000
SUMMARY:Blue Christmas Service
LOCATION:Rideau Park United Church\, Alta Vista Drive Ottawa ON
DESCRIPTION: Please join us  Wednesday, December 21, at 7:00 p.m. for the gentle Blue Christmas service. A quiet, contemplative service; an alternative to traditional services. Maybe your year has been hard – for whatever reason (bereavement, illness, estrangement, loss of income, loneliness or worry) – and Christmas seems to highlight the difficulties. Or maybe in an over busy life, you just want space to reflect, recall, regroup. 
URL:https://www.rideaupark.ca/event/blue-christmas-service/edate/2022-12-21
END:VEVENT
END:VCALENDAR
