BEGIN:VCALENDAR
METHOD:PUBLISH
VERSION:2.0
CALSCALE:GREGORIAN
PRODID:-//NONSGML WPForms//NONSGML Sugar Calendar Feeds v3.11.0//EN
X-WR-CALNAME:Big Soul Project Concert: Living in Community
X-WR-CALDESC:Rideau Park United Church
X-WR-TIMEZONE:America/Toronto
BEGIN:VTIMEZONE
TZID:America/Toronto
BEGIN:DAYLIGHT
TZOFFSETFROM:-0500
TZOFFSETTO:-0400
DTSTART:20260308T070000
TZNAME:EDT
END:DAYLIGHT
END:VTIMEZONE
BEGIN:VTIMEZONE
TZID:America/Toronto
BEGIN:DAYLIGHT
TZOFFSETFROM:-0500
TZOFFSETTO:-0400
DTSTART:20260308T070000
TZNAME:EDT
END:DAYLIGHT
END:VTIMEZONE
BEGIN:VEVENT
SUMMARY:Big Soul Project Concert: Living in Community
DESCRIPTION:Living in Community: Big Soul Project Concert\nDate: Saturda
 y\, May 30\, 2026\nTime: Concert at 7:30pm\; doors open at 7:00pm\nTicke
 ts: $25.00/person\; youth under 12 are free\nClick here to purchase tick
 ets.\n\nRideau Park United Church brings you a joy-filled concert by Big
  Soul Project Community Choir that will lift your spirits and launch you
  into spring. With a large choir and a 4-piece rock band\, we'll be shak
 ing down the house! Big Soul Project Community Choir is under the direct
 ion of Tahlia De Corso\, and backed by the Deep Groove Band. Please grab
  your friends and family\, and come join in the fun!\n\nEnjoy classic R&
 amp\;B\, gospel\, funk and soul\, presented by the Big Soul Community Ch
 oir\, and support the Multifaith Housing Initiative.\n\nEvery registrati
 on for this event brings us closer to achieving the mission of Multifait
 h Housing: "to provide and promote safe\, affordable\, and well-maintain
 ed housing in inclusive communities\, and to mobilize resources for thes
 e purposes".
URL;VALUE=URI:https://www.rideaupark.ca/events/big-soul-project-concert-
 living-in-community/
UID:urn:uuid:7c12ea0f-1eed-4c60-a2ac-d901c6d3dbd6
STATUS:CONFIRMED
ORGANIZER:
DTSTAMP:20260425T120813Z
DTSTART;TZID=America/Toronto:20260530T190000
DTEND;TZID=America/Toronto:20260530T220000
LOCATION:2203 Alta Vista Drive
END:VEVENT
END:VCALENDAR