BEGIN:VCALENDAR
METHOD:PUBLISH
VERSION:2.0
CALSCALE:GREGORIAN
PRODID:-//NONSGML WPForms//NONSGML Sugar Calendar Feeds v3.11.0//EN
X-WR-CALNAME:La-Bell-Ensemble
X-WR-CALDESC:Rideau Park United Church
X-WR-TIMEZONE:America/Toronto
BEGIN:VTIMEZONE
TZID:America/Toronto
BEGIN:DAYLIGHT
TZOFFSETFROM:-0500
TZOFFSETTO:-0400
DTSTART:20260308T070000
TZNAME:EDT
END:DAYLIGHT
END:VTIMEZONE
BEGIN:VTIMEZONE
TZID:America/Toronto
BEGIN:DAYLIGHT
TZOFFSETFROM:-0500
TZOFFSETTO:-0400
DTSTART:20260308T070000
TZNAME:EDT
END:DAYLIGHT
END:VTIMEZONE
BEGIN:VEVENT
SUMMARY:La Bell Ensemble
DESCRIPTION:LA BELL ENSEMBLE is an adult handbell choir that provides nu
 sic for weddings and offers its gifts of music frquently out in the wide
 r community.\n\nPractices are held on Tuesdays from 7:30 to 8:30 PM.\n\n
 For more information\, or to join\, please contact the director Jeanette
  Caton.
URL;VALUE=URI:https://www.rideaupark.ca/sc_recurring_event/la-bell-ensem
 ble-2/
UID:urn:uuid:96b1da54-0007-45cf-99e9-81e7028ca1d6
STATUS:CONFIRMED
ORGANIZER:
DTSTAMP:20260425T170201Z
DTSTART;TZID=America/Toronto:20260602T193000
DTEND;TZID=America/Toronto:20260602T203000
RRULE:FREQ=WEEKLY;INTERVAL=1;UNTIL=20260624T235959Z
LOCATION:2203 Alta Vista Drive
END:VEVENT
END:VCALENDAR