BEGIN:VCALENDAR
METHOD:PUBLISH
VERSION:2.0
CALSCALE:GREGORIAN
PRODID:-//NONSGML WPForms//NONSGML Sugar Calendar Feeds v3.11.0//EN
X-WR-CALNAME:Mental Health Sunday Worship Service
X-WR-CALDESC:Rideau Park United Church
X-WR-TIMEZONE:America/Toronto
BEGIN:VTIMEZONE
TZID:America/Toronto
BEGIN:STANDARD
TZOFFSETFROM:-0400
TZOFFSETTO:-0500
DTSTART:20251102T060000
TZNAME:EST
END:STANDARD
BEGIN:DAYLIGHT
TZOFFSETFROM:-0500
TZOFFSETTO:-0400
DTSTART:20260308T070000
TZNAME:EDT
END:DAYLIGHT
END:VTIMEZONE
BEGIN:VTIMEZONE
TZID:America/Toronto
BEGIN:STANDARD
TZOFFSETFROM:-0400
TZOFFSETTO:-0500
DTSTART:20251102T060000
TZNAME:EST
END:STANDARD
BEGIN:DAYLIGHT
TZOFFSETFROM:-0500
TZOFFSETTO:-0400
DTSTART:20260308T070000
TZNAME:EDT
END:DAYLIGHT
END:VTIMEZONE
BEGIN:VEVENT
SUMMARY:Mental Health Sunday Worship Service
DESCRIPTION:Mental Health Sunday will take place on May 3. Please join u
 s in the Sanctuary at 10am or through our webcast.\nTo watch the service
  live\, click here.\nTo watch previous services\, click here.\nTo get a 
 copy of this Sunday's bulletin\, click here.\nTo see the notes from last
  Sunday's sermon\, click here.\n\nAll are welcome. The sanctuary is whee
 lchair-accessible.\n\n\n\n[caption id="attachment_10417" align="aligncen
 ter" width="150"] Rideau Park United Church - 2025[/caption]
URL;VALUE=URI:https://www.rideaupark.ca/events/mental-health-sunday-wors
 hip-service/
UID:urn:uuid:4611cb8f-06c8-4e74-86a0-18bd8f2b5c22
STATUS:CONFIRMED
ORGANIZER:
DTSTAMP:20260425T122112Z
DTSTART;TZID=America/Toronto:20260503T100000
DTEND;TZID=America/Toronto:20260503T110000
LOCATION:2203 Alta Vista Drive
END:VEVENT
END:VCALENDAR