BEGIN:VCALENDAR
METHOD:PUBLISH
VERSION:2.0
CALSCALE:GREGORIAN
PRODID:-//NONSGML WPForms//NONSGML Sugar Calendar Feeds v3.11.0//EN
X-WR-CALNAME:Organ Recital by Valerie Hall in Memory of Dianne Ferguson
X-WR-CALDESC:Rideau Park United Church
X-WR-TIMEZONE:America/Toronto
BEGIN:VTIMEZONE
TZID:America/Toronto
BEGIN:STANDARD
TZOFFSETFROM:-0400
TZOFFSETTO:-0500
DTSTART:20251102T060000
TZNAME:EST
END:STANDARD
BEGIN:DAYLIGHT
TZOFFSETFROM:-0500
TZOFFSETTO:-0400
DTSTART:20260308T070000
TZNAME:EDT
END:DAYLIGHT
END:VTIMEZONE
BEGIN:VTIMEZONE
TZID:America/Toronto
BEGIN:STANDARD
TZOFFSETFROM:-0400
TZOFFSETTO:-0500
DTSTART:20251102T060000
TZNAME:EST
END:STANDARD
BEGIN:DAYLIGHT
TZOFFSETFROM:-0500
TZOFFSETTO:-0400
DTSTART:20260308T070000
TZNAME:EDT
END:DAYLIGHT
END:VTIMEZONE
BEGIN:VEVENT
SUMMARY:Organ Recital by Valerie Hall in Memory of Dianne Ferguson
DESCRIPTION:[caption id="attachment_10139" align="alignleft" width="137"
 ] Valerie Hall Organist[/caption]\n\n\n[caption id="attachment_10138" al
 ign="alignleft" width="137"] Dianne Ferguson October 17\, 1934 â€” Augus
 t 3\, 2022[/caption]\n\nAn exceptional organ recital by Valerie Hall in 
 memory of a beloved musician\, Dianne Ferguson.\nIndividual tickets at t
 he door are $30 Regular\, $25 Seniors\, and $15 Students or tickets are 
 available in advance throughÂ Eventbrite.\n\n\n\nOn Sunday\, April 26 at
  3pm\,Â Pro Organo OttawaÂ is pleased to present organistÂ Valerie HallÂ
  in recital here at Rideau Park. This performance\, as part of the excit
 ing series of four Pro Organo recitals in its 2025-2026 season\, isÂ ded
 icated to the memoryÂ ofÂ Rideau Park Unitedâ€™s long-serving and well-r
 emembered organist and choir director\,Â Dianne FergusonÂ (1934-2022).\n
 \nDianne was an accomplished musician: pianist\, organist\, and director
  of adult choirs\, childrenâ€™s choirs\, and handbell choirs. She had a 
 long musical career in both Alberta and Ontario\, culminating in her yea
 rs at Rideau Park United. Dianne was an active and valued member of the 
 Royal Canadian College of Organists\, Ottawa and Edmonton Centres\, and\
 , in 2007\, received the RCCO Distinguished Service Award.\n\nAs Dianne 
 Ferguson was organist at this church for many years and promoted Canadia
 n music all through her career\, Valerie Hallâ€™s recital will honour he
 r memory by featuring a program of Canadian music\, the sounds of the Tr
 ue North [Strong and] Free.\n\nIndividual tickets at the door are $30 Re
 gular\, $25 Seniors\, and $15 Students or tickets are available in advan
 ce throughÂ Eventbrite.\n\nAll are welcome\, and there will be a recepti
 on following the recital. Letâ€™s celebrate Dianne\, springtime\, commun
 ity\, and Canada in music!
URL;VALUE=URI:https://www.rideaupark.ca/events/organ-recital-by-valerie-
 hall-in-memory-of-dianne-ferguson/
UID:urn:uuid:1757984c-0545-4471-87fc-4bdfb4c23575
STATUS:CONFIRMED
ORGANIZER:
DTSTAMP:20260425T120657Z
DTSTART;TZID=America/Toronto:20260426T150000
DTEND;TZID=America/Toronto:20260426T180000
LOCATION:2203 Alta Vista Drive
END:VEVENT
END:VCALENDAR