BEGIN:VCALENDAR
METHOD:PUBLISH
VERSION:2.0
CALSCALE:GREGORIAN
PRODID:-//NONSGML WPForms//NONSGML Sugar Calendar Feeds v3.11.0//EN
X-WR-CALNAME:Ringing-Praise
X-WR-CALDESC:Rideau Park United Church
X-WR-TIMEZONE:America/Toronto
BEGIN:VTIMEZONE
TZID:America/Toronto
BEGIN:STANDARD
TZOFFSETFROM:-0400
TZOFFSETTO:-0500
DTSTART:20251102T060000
TZNAME:EST
END:STANDARD
BEGIN:DAYLIGHT
TZOFFSETFROM:-0500
TZOFFSETTO:-0400
DTSTART:20260308T070000
TZNAME:EDT
END:DAYLIGHT
END:VTIMEZONE
BEGIN:VTIMEZONE
TZID:America/Toronto
BEGIN:STANDARD
TZOFFSETFROM:-0400
TZOFFSETTO:-0500
DTSTART:20251102T060000
TZNAME:EST
END:STANDARD
BEGIN:DAYLIGHT
TZOFFSETFROM:-0500
TZOFFSETTO:-0400
DTSTART:20260308T070000
TZNAME:EDT
END:DAYLIGHT
END:VTIMEZONE
BEGIN:VEVENT
SUMMARY:Ringing Praise
DESCRIPTION:RINGING PRAISE is an adult handbell choir for beginners who 
 are interested in learning to play bells.\n\nPractices are held on Tuesd
 ays from 6:30 to 7:30 PM.\n\nFor more information\, or to join\, please 
 contact the director Jeanette Caton.
URL;VALUE=URI:https://www.rideaupark.ca/sc_recurring_event/ringing-prais
 e-3/
UID:urn:uuid:b08311bb-9507-4593-aaf8-8a5d054526cf
STATUS:CONFIRMED
ORGANIZER:
DTSTAMP:20260425T153355Z
DTSTART;TZID=America/Toronto:20260428T183000
DTEND;TZID=America/Toronto:20260428T193000
RRULE:FREQ=WEEKLY;INTERVAL=1;UNTIL=20260624T235959Z
LOCATION:2203 Alta Vista Drive
END:VEVENT
END:VCALENDAR