BEGIN:VCALENDAR
METHOD:PUBLISH
VERSION:2.0
CALSCALE:GREGORIAN
PRODID:-//NONSGML WPForms//NONSGML Sugar Calendar Feeds v3.11.0//EN
X-WR-CALNAME:Sunday-Worship-Service-in-Sanctuary-and-Webcast-2026
X-WR-CALDESC:Rideau Park United Church
X-WR-TIMEZONE:America/Toronto
BEGIN:VTIMEZONE
TZID:America/Toronto
BEGIN:DAYLIGHT
TZOFFSETFROM:-0500
TZOFFSETTO:-0400
DTSTART:20260308T070000
TZNAME:EDT
END:DAYLIGHT
END:VTIMEZONE
BEGIN:VTIMEZONE
TZID:America/Toronto
BEGIN:DAYLIGHT
TZOFFSETFROM:-0500
TZOFFSETTO:-0400
DTSTART:20260308T070000
TZNAME:EDT
END:DAYLIGHT
END:VTIMEZONE
BEGIN:VEVENT
SUMMARY:Sunday Worship Service (in Sanctuary and Webcast) - 2026
DESCRIPTION:Sunday worship services are held in the Sanctuary at 10:00 A
 M and through our webcast.\n\nTo watch the service live\, click here\nTo
  watch previous services\, click here.\nTo get a copy of this Sunday's b
 ulletin\, click here.\nTo see the notes from last Sunday's sermon\, clic
 k here.\n\nAll are welcome. The santuary is wheelchair-accessible.
URL;VALUE=URI:https://www.rideaupark.ca/sc_recurring_event/sunday-worshi
 p-service-in-sanctuary-and-webcast-2026-2/
UID:urn:uuid:0513ecd3-c6fb-406e-aef5-6158b7756ced
STATUS:CONFIRMED
ORGANIZER:
DTSTAMP:20260425T153723Z
DTSTART;TZID=America/Toronto:20260614T100000
DTEND;TZID=America/Toronto:20260614T110000
RRULE:FREQ=WEEKLY;INTERVAL=1;UNTIL=20261227T235959Z
LOCATION:2203 Alta Vista Drive
END:VEVENT
END:VCALENDAR