BEGIN:VCALENDAR
METHOD:PUBLISH
VERSION:2.0
CALSCALE:GREGORIAN
PRODID:-//NONSGML WPForms//NONSGML Sugar Calendar Feeds v3.11.0//EN
X-WR-CALNAME:Touch-of-Brass
X-WR-CALDESC:Rideau Park United Church
X-WR-TIMEZONE:America/Toronto
BEGIN:VTIMEZONE
TZID:America/Toronto
BEGIN:STANDARD
TZOFFSETFROM:-0400
TZOFFSETTO:-0500
DTSTART:20251102T060000
TZNAME:EST
END:STANDARD
BEGIN:DAYLIGHT
TZOFFSETFROM:-0500
TZOFFSETTO:-0400
DTSTART:20260308T070000
TZNAME:EDT
END:DAYLIGHT
END:VTIMEZONE
BEGIN:VTIMEZONE
TZID:America/Toronto
BEGIN:STANDARD
TZOFFSETFROM:-0400
TZOFFSETTO:-0500
DTSTART:20251102T060000
TZNAME:EST
END:STANDARD
BEGIN:DAYLIGHT
TZOFFSETFROM:-0500
TZOFFSETTO:-0400
DTSTART:20260308T070000
TZNAME:EDT
END:DAYLIGHT
END:VTIMEZONE
BEGIN:VEVENT
SUMMARY:Touch of Brass
DESCRIPTION:TOUCH OF BRASS is an adult handbell choir that plays in chur
 ch regularly\, as well as at special events in the community.\n\nPractic
 es are held on Mondays from 7:15 to 8:45 PM.\n\nFor more information\, o
 r to join\, please contact the director Gordon Dewis.
URL;VALUE=URI:https://www.rideaupark.ca/sc_recurring_event/touch-of-bras
 s-3/
UID:urn:uuid:eeb5a625-3e27-4293-af60-92a406e84f59
STATUS:CONFIRMED
ORGANIZER:
DTSTAMP:20260425T153548Z
DTSTART;TZID=America/Toronto:20260427T191500
DTEND;TZID=America/Toronto:20260427T204500
RRULE:FREQ=WEEKLY;INTERVAL=1;UNTIL=20260622T235959Z
LOCATION:2203 Alta Vista Drive
END:VEVENT
END:VCALENDAR